BEGIN:VCALENDAR
VERSION:2.0
PRODID:-//Mountain Creative Arts Counseling - ECPv6.15.18//NONSGML v1.0//EN
CALSCALE:GREGORIAN
METHOD:PUBLISH
X-ORIGINAL-URL:https://www.mountaincreativearts.com
X-WR-CALDESC:Events for Mountain Creative Arts Counseling
REFRESH-INTERVAL;VALUE=DURATION:PT1H
X-Robots-Tag:noindex
X-PUBLISHED-TTL:PT1H
BEGIN:VTIMEZONE
TZID:America/New_York
BEGIN:DAYLIGHT
TZOFFSETFROM:-0500
TZOFFSETTO:-0400
TZNAME:EDT
DTSTART:20250309T070000
END:DAYLIGHT
BEGIN:STANDARD
TZOFFSETFROM:-0400
TZOFFSETTO:-0500
TZNAME:EST
DTSTART:20251102T060000
END:STANDARD
BEGIN:DAYLIGHT
TZOFFSETFROM:-0500
TZOFFSETTO:-0400
TZNAME:EDT
DTSTART:20260308T070000
END:DAYLIGHT
BEGIN:STANDARD
TZOFFSETFROM:-0400
TZOFFSETTO:-0500
TZNAME:EST
DTSTART:20261101T060000
END:STANDARD
BEGIN:DAYLIGHT
TZOFFSETFROM:-0500
TZOFFSETTO:-0400
TZNAME:EDT
DTSTART:20270314T070000
END:DAYLIGHT
BEGIN:STANDARD
TZOFFSETFROM:-0400
TZOFFSETTO:-0500
TZNAME:EST
DTSTART:20271107T060000
END:STANDARD
END:VTIMEZONE
BEGIN:VEVENT
DTSTART;TZID=America/New_York:20260301T110000
DTEND;TZID=America/New_York:20260301T123000
DTSTAMP:20260425T075143
CREATED:20260106T163231Z
LAST-MODIFIED:20260130T190653Z
UID:3365-1772362800-1772368200@www.mountaincreativearts.com
SUMMARY:Mindful Mark-Making: Neurographic Art Workshop
DESCRIPTION:Join art therapist\, Kara Ashley-Gilmore\, for a special session of Mindful Mark-Making. We will blend the 7 essential principles of mindfulness with intuitive art practices\, using drawing and watercolors as tools for relaxation. You’ll be guided through a series of creative mark-making exercises and grounding techniques\, culminating in an extended\, meditative painting session. \n  \nDuring this workshop\, we will explore Neurographic Art—a powerful method rooted in Pavel Piskarev’s Neurographica® model. We will create fluid\, organic lines and shapes resembling neural pathways and cells\, and add mark-making elements along the way. \n  \nWhat’s Included in Your Session: \n🧘‍♀️🌳 Opening Guided Meditation & Focused Grounding Exercises. \n📘✨ The “Principles of Mindfulness for Art-Making” Takeaway Guide. \n✍️〰️  Hands-on instruction for Neurographic line work and meditative mark-making. \n🎨💖 An extended period of self-directed\, meditative painting and creation. \n🤝🗣️ A closing sharing circle for connection and reflection. \n  \nAbsolutely no art experience is required! All supplies—including rich watercolor paints\, drawing pens\, and acrylic markers—are provided for your use. Just bring your willingness to play\, and your desire to connect and share! \n  \n—- \n  \nDetails: \n📍 The Art Place Studios: 2015 Asheville Hwy\, Hendersonville \n📆 Sunday\, March 1\, 2026\, from 11am to 12:30pm \n🎨 Art League Members: $30 | Non-Members: $35 \n  \nRegister Here
URL:https://www.mountaincreativearts.com/event/mindful-mark-making-neurographic-art-workshop/
LOCATION:Art Place Studios\, 2015 Asheville Hwy\, Hendersonville\, NC\, United States
ATTACH;FMTTYPE=image/png:https://www.mountaincreativearts.com/wp-content/uploads/2026/01/MMM-NA-Hendo-Calendar-Banner.png
ORGANIZER;CN="Kara Ashley-Gilmore":MAILTO:kgilmore@mountaincreativearts.com
END:VEVENT
END:VCALENDAR