BEGIN:VCALENDAR
VERSION:2.0
PRODID:-//Mountain Creative Arts Counseling - ECPv6.15.18//NONSGML v1.0//EN
CALSCALE:GREGORIAN
METHOD:PUBLISH
X-ORIGINAL-URL:https://www.mountaincreativearts.com
X-WR-CALDESC:Events for Mountain Creative Arts Counseling
REFRESH-INTERVAL;VALUE=DURATION:PT1H
X-Robots-Tag:noindex
X-PUBLISHED-TTL:PT1H
BEGIN:VTIMEZONE
TZID:America/New_York
BEGIN:DAYLIGHT
TZOFFSETFROM:-0500
TZOFFSETTO:-0400
TZNAME:EDT
DTSTART:20250309T070000
END:DAYLIGHT
BEGIN:STANDARD
TZOFFSETFROM:-0400
TZOFFSETTO:-0500
TZNAME:EST
DTSTART:20251102T060000
END:STANDARD
BEGIN:DAYLIGHT
TZOFFSETFROM:-0500
TZOFFSETTO:-0400
TZNAME:EDT
DTSTART:20260308T070000
END:DAYLIGHT
BEGIN:STANDARD
TZOFFSETFROM:-0400
TZOFFSETTO:-0500
TZNAME:EST
DTSTART:20261101T060000
END:STANDARD
BEGIN:DAYLIGHT
TZOFFSETFROM:-0500
TZOFFSETTO:-0400
TZNAME:EDT
DTSTART:20270314T070000
END:DAYLIGHT
BEGIN:STANDARD
TZOFFSETFROM:-0400
TZOFFSETTO:-0500
TZNAME:EST
DTSTART:20271107T060000
END:STANDARD
END:VTIMEZONE
BEGIN:VEVENT
DTSTART;TZID=America/New_York:20260328T100000
DTEND;TZID=America/New_York:20260328T123000
DTSTAMP:20260423T165512
CREATED:20260317T005740Z
LAST-MODIFIED:20260317T005740Z
UID:3417-1774692000-1774701000@www.mountaincreativearts.com
SUMMARY:Sacred Rage: An Art & Writing Workshop
DESCRIPTION:What if your rage held a deeper\, sacred purpose?  \nDr. Jennifer Mullan says\, “When rage moves through us\, it clears blockages\, and births clarity.” So often\, we disconnect from our anger\, fearing its intensity or the loss of control it might bring. But what if we could explore it safely? \nJoin us for “Sacred Rage\,” a workshop that offers the opportunity to tap into your anger using art while staying grounded and connected to your body. We’ll explore your rage\, what silences it\, and what it needs to move forward. \nAs Cole Arthur Riley beautifully articulates\, “The more we listen to our own anger\, the better a listener it becomes.” This workshop is a space to explore its edges safely. \nWhat to expect: \n\nMindfulness practices and intuitive painting\nSelf-expression through lines\, colors\, and shapes\nA guided poetry exercise to transform images into written form\n\nReady to uncover the message your anger needs you to hear? Register now! \n  \nRegister Here
URL:https://www.mountaincreativearts.com/event/sacred-rage-workshop/
LOCATION:Art Place Studios\, 2015 Asheville Hwy\, Hendersonville\, NC\, United States
ATTACH;FMTTYPE=image/png:https://www.mountaincreativearts.com/wp-content/uploads/2026/03/March-2026-Sacred-Rage-Ad.png
ORGANIZER;CN="Kara Ashley-Gilmore":MAILTO:kgilmore@mountaincreativearts.com
END:VEVENT
END:VCALENDAR