BEGIN:VCALENDAR
VERSION:2.0
PRODID:-//Mountain Creative Arts Counseling - ECPv6.15.18//NONSGML v1.0//EN
CALSCALE:GREGORIAN
METHOD:PUBLISH
X-ORIGINAL-URL:https://www.mountaincreativearts.com
X-WR-CALDESC:Events for Mountain Creative Arts Counseling
REFRESH-INTERVAL;VALUE=DURATION:PT1H
X-Robots-Tag:noindex
X-PUBLISHED-TTL:PT1H
BEGIN:VTIMEZONE
TZID:America/New_York
BEGIN:DAYLIGHT
TZOFFSETFROM:-0500
TZOFFSETTO:-0400
TZNAME:EDT
DTSTART:20250309T070000
END:DAYLIGHT
BEGIN:STANDARD
TZOFFSETFROM:-0400
TZOFFSETTO:-0500
TZNAME:EST
DTSTART:20251102T060000
END:STANDARD
BEGIN:DAYLIGHT
TZOFFSETFROM:-0500
TZOFFSETTO:-0400
TZNAME:EDT
DTSTART:20260308T070000
END:DAYLIGHT
BEGIN:STANDARD
TZOFFSETFROM:-0400
TZOFFSETTO:-0500
TZNAME:EST
DTSTART:20261101T060000
END:STANDARD
BEGIN:DAYLIGHT
TZOFFSETFROM:-0500
TZOFFSETTO:-0400
TZNAME:EDT
DTSTART:20270314T070000
END:DAYLIGHT
BEGIN:STANDARD
TZOFFSETFROM:-0400
TZOFFSETTO:-0500
TZNAME:EST
DTSTART:20271107T060000
END:STANDARD
END:VTIMEZONE
BEGIN:VEVENT
DTSTART;TZID=America/New_York:20260508T100000
DTEND;TZID=America/New_York:20260508T120000
DTSTAMP:20260423T151141
CREATED:20260317T004517Z
LAST-MODIFIED:20260317T010447Z
UID:3410-1778234400-1778241600@www.mountaincreativearts.com
SUMMARY:Memory Café- Mindful Mark Making
DESCRIPTION:A chance to focus on the present moment and engage in creative expression through watercolor and lines\, with a special visit from Kara Ashley-Gilmore\, a licensed art therapist. Activities will include refreshments\, singalongs\, and a calming and intuitive art project. \nThis program is intended for persons living with dementia and their care partner.  \nRegistration Required- This event requires registration as space is limited to ensure the best possible environment for participants. \n  \n\nDate: Friday\, May 8\, 2026\nTime: 10:00am – 11:30am\nLocation: Kaplan Auditorium\, Henderson County Public Library Main Branch
URL:https://www.mountaincreativearts.com/event/memory-cafe-mindful-mark-making/
LOCATION:Henderson County Public Library\, 301 N Washington St.\, Hendersonville\, NC\, 28739\, United States
ATTACH;FMTTYPE=image/jpeg:https://www.mountaincreativearts.com/wp-content/uploads/2025/01/Neurographic-Art-1.jpg
ORGANIZER;CN="Kara Ashley-Gilmore":MAILTO:kgilmore@mountaincreativearts.com
END:VEVENT
END:VCALENDAR